BEGIN:VCALENDAR
VERSION:2.0
PRODID:-//Novelty Hill Januik - ECPv6.15.20//NONSGML v1.0//EN
CALSCALE:GREGORIAN
METHOD:PUBLISH
X-WR-CALNAME:Novelty Hill Januik
X-ORIGINAL-URL:https://www.noveltyhilljanuik.com
X-WR-CALDESC:Events for Novelty Hill Januik
REFRESH-INTERVAL;VALUE=DURATION:PT1H
X-Robots-Tag:noindex
X-PUBLISHED-TTL:PT1H
BEGIN:VTIMEZONE
TZID:America/Los_Angeles
BEGIN:DAYLIGHT
TZOFFSETFROM:-0800
TZOFFSETTO:-0700
TZNAME:PDT
DTSTART:20220313T100000
END:DAYLIGHT
BEGIN:STANDARD
TZOFFSETFROM:-0700
TZOFFSETTO:-0800
TZNAME:PST
DTSTART:20221106T090000
END:STANDARD
BEGIN:DAYLIGHT
TZOFFSETFROM:-0800
TZOFFSETTO:-0700
TZNAME:PDT
DTSTART:20230312T100000
END:DAYLIGHT
BEGIN:STANDARD
TZOFFSETFROM:-0700
TZOFFSETTO:-0800
TZNAME:PST
DTSTART:20231105T090000
END:STANDARD
BEGIN:DAYLIGHT
TZOFFSETFROM:-0800
TZOFFSETTO:-0700
TZNAME:PDT
DTSTART:20240310T100000
END:DAYLIGHT
BEGIN:STANDARD
TZOFFSETFROM:-0700
TZOFFSETTO:-0800
TZNAME:PST
DTSTART:20241103T090000
END:STANDARD
END:VTIMEZONE
BEGIN:VEVENT
DTSTART;VALUE=DATE:20230205
DTEND;VALUE=DATE:20230206
DTSTAMP:20260420T050106
CREATED:20221230T225128Z
LAST-MODIFIED:20221230T225128Z
UID:10000964-1675555200-1675641599@www.noveltyhilljanuik.com
SUMMARY:Weddings in Woodinville
DESCRIPTION:If you are planning to say\, “I Do” this coming year\, then you need to be in Woodinville on Sunday\, February 5 when wine country’s top wedding venues open their doors in lavish style to future brides and grooms for an unforgettable afternoon of wine tasting and nuptial inspiration. \nNovelty Hill Januik will be one of six fully decorated venues designed to help brides\, grooms and their families and friends envision how they want their special day to look.  Each venue will display table settings\, floral designs\, catering\, host music and more\, choreographed by some of the top wedding planners in the city who will be on hand to answer questions. \nTop-of-the-line transportation will chauffeur guests to each venue. \nGeneral Admission $70; Day-of (if available) $100
URL:https://www.noveltyhilljanuik.com/event/weddings-in-woodinville/
LOCATION:WA
CATEGORIES:Events at the Winery,Open To All
ATTACH;FMTTYPE=image/jpeg:https://www.noveltyhilljanuik.com/wp-content/uploads/2022/12/weddings-600x400-calendar.jpg
END:VEVENT
BEGIN:VEVENT
DTSTART;TZID=America/Los_Angeles:20230211T180000
DTEND;TZID=America/Los_Angeles:20230211T203000
DTSTAMP:20260420T050106
CREATED:20230118T040847Z
LAST-MODIFIED:20230118T042321Z
UID:10000965-1676138400-1676147400@www.noveltyhilljanuik.com
SUMMARY:Romantic 5-Course Valentine's Dinner
DESCRIPTION:Ooh la la! Make this Valentine’s celebration one to remember. Join us for a candlelight evening for two and a romantic French-inspired dinner. Our in-house culinary team\, led by Chef Jason Northern\, will pair each course with a special wine designed to highlight the complementary flavors and contrasting tastes of each dish. \nPreview menu. \nReservations required. Space is limited.
URL:https://www.noveltyhilljanuik.com/event/romantic-5-course-valentines-dinner/
LOCATION:Novelty Hill-Januik Winery\, 14710 Woodinville-Redmond Rd NE\, Woodinville\, WA\, 98072\, United States
CATEGORIES:Cellar Circle Wine Club,Events at the Winery,Open To All
ATTACH;FMTTYPE=image/png:https://www.noveltyhilljanuik.com/wp-content/uploads/2023/01/Untitled-design-11.png
GEO:47.7349952;-122.1529831
X-APPLE-STRUCTURED-LOCATION;VALUE=URI;X-ADDRESS=Novelty Hill-Januik Winery 14710 Woodinville-Redmond Rd NE Woodinville WA 98072 United States;X-APPLE-RADIUS=500;X-TITLE=14710 Woodinville-Redmond Rd NE:geo:-122.1529831,47.7349952
END:VEVENT
END:VCALENDAR