BEGIN:VCALENDAR
VERSION:2.0
PRODID:-//Novelty Hill Januik - ECPv6.15.20//NONSGML v1.0//EN
CALSCALE:GREGORIAN
METHOD:PUBLISH
X-ORIGINAL-URL:https://www.noveltyhilljanuik.com
X-WR-CALDESC:Events for Novelty Hill Januik
REFRESH-INTERVAL;VALUE=DURATION:PT1H
X-Robots-Tag:noindex
X-PUBLISHED-TTL:PT1H
BEGIN:VTIMEZONE
TZID:America/Los_Angeles
BEGIN:DAYLIGHT
TZOFFSETFROM:-0800
TZOFFSETTO:-0700
TZNAME:PDT
DTSTART:20240310T100000
END:DAYLIGHT
BEGIN:STANDARD
TZOFFSETFROM:-0700
TZOFFSETTO:-0800
TZNAME:PST
DTSTART:20241103T090000
END:STANDARD
BEGIN:DAYLIGHT
TZOFFSETFROM:-0800
TZOFFSETTO:-0700
TZNAME:PDT
DTSTART:20250309T100000
END:DAYLIGHT
BEGIN:STANDARD
TZOFFSETFROM:-0700
TZOFFSETTO:-0800
TZNAME:PST
DTSTART:20251102T090000
END:STANDARD
BEGIN:DAYLIGHT
TZOFFSETFROM:-0800
TZOFFSETTO:-0700
TZNAME:PDT
DTSTART:20260308T100000
END:DAYLIGHT
BEGIN:STANDARD
TZOFFSETFROM:-0700
TZOFFSETTO:-0800
TZNAME:PST
DTSTART:20261101T090000
END:STANDARD
END:VTIMEZONE
BEGIN:VEVENT
DTSTART;VALUE=DATE:20250101
DTEND;VALUE=DATE:20250102
DTSTAMP:20260421T144527
CREATED:20191125T032644Z
LAST-MODIFIED:20241018T193951Z
UID:10000930-1735689600-1735775999@www.noveltyhilljanuik.com
SUMMARY:Closed New Year's Day
DESCRIPTION:Welcome 2025! Wishing you a peaceful and prosperous new year.
URL:https://www.noveltyhilljanuik.com/event/closed-new-years-day-2/
LOCATION:WA
CATEGORIES:Cellar Circle Wine Club,Events at the Winery,Holiday,Open To All,Tasting Experiences
ATTACH;FMTTYPE=image/jpeg:https://www.noveltyhilljanuik.com/wp-content/uploads/2019/11/new-year-calendar.jpg
END:VEVENT
END:VCALENDAR